BEGIN:VCALENDAR
VERSION:2.0
PRODID:-//Fundación María de los Ángeles - ECPv6.15.20//NONSGML v1.0//EN
CALSCALE:GREGORIAN
METHOD:PUBLISH
X-WR-CALNAME:Fundación María de los Ángeles
X-ORIGINAL-URL:https://fundacionmariadelosangeles.org.ar
X-WR-CALDESC:Eventos para Fundación María de los Ángeles
REFRESH-INTERVAL;VALUE=DURATION:PT1H
X-Robots-Tag:noindex
X-PUBLISHED-TTL:PT1H
BEGIN:VTIMEZONE
TZID:America/Argentina/Buenos_Aires
BEGIN:STANDARD
TZOFFSETFROM:-0300
TZOFFSETTO:-0300
TZNAME:-03
DTSTART:20230101T000000
END:STANDARD
END:VTIMEZONE
BEGIN:VTIMEZONE
TZID:America/Argentina/Tucuman
BEGIN:STANDARD
TZOFFSETFROM:-0300
TZOFFSETTO:-0300
TZNAME:-03
DTSTART:20230101T000000
END:STANDARD
END:VTIMEZONE
BEGIN:VEVENT
DTSTART;TZID=America/Argentina/Buenos_Aires:20240529T100000
DTEND;TZID=America/Argentina/Buenos_Aires:20240529T120000
DTSTAMP:20260421T102220
CREATED:20240409T162544Z
LAST-MODIFIED:20240409T162544Z
UID:1645-1716976800-1716984000@fundacionmariadelosangeles.org.ar
SUMMARY:ACERCAMIENTO A LAS HERRAMIENTAS DIGITALES
DESCRIPTION:Recuerden que para poder participar deben haberse anotado previamente a través de su equipo interdisciplinario. \nTe esperamos y si tenes ganas traé algo para compartir mientras trabajamos. 25 de mayo 1095\, San Miguel de Tucumán.
URL:https://fundacionmariadelosangeles.org.ar/event/acercamiento-a-las-herramientas-digitales-8/
CATEGORIES:Taller
END:VEVENT
BEGIN:VEVENT
DTSTART;TZID=America/Argentina/Buenos_Aires:20240522T100000
DTEND;TZID=America/Argentina/Buenos_Aires:20240522T120000
DTSTAMP:20260421T102220
CREATED:20240409T162415Z
LAST-MODIFIED:20240409T162415Z
UID:1642-1716372000-1716379200@fundacionmariadelosangeles.org.ar
SUMMARY:ACERCAMIENTO A LAS HERRAMIENTAS DIGITALES
DESCRIPTION:Recuerden que para poder participar deben haberse anotado previamente a través de su equipo interdisciplinario. \nTe esperamos y si tenes ganas traé algo para compartir mientras trabajamos. 25 de mayo 1095\, San Miguel de Tucumán.
URL:https://fundacionmariadelosangeles.org.ar/event/acercamiento-a-las-herramientas-digitales-7/
CATEGORIES:Taller
END:VEVENT
BEGIN:VEVENT
DTSTART;TZID=America/Argentina/Buenos_Aires:20240515T100000
DTEND;TZID=America/Argentina/Buenos_Aires:20240515T120000
DTSTAMP:20260421T102220
CREATED:20240409T162331Z
LAST-MODIFIED:20240409T162331Z
UID:1640-1715767200-1715774400@fundacionmariadelosangeles.org.ar
SUMMARY:ACERCAMIENTO A LAS HERRAMIENTAS DIGITALES
DESCRIPTION:Recuerden que para poder participar deben haberse anotado previamente a través de su equipo interdisciplinario. \nTe esperamos y si tenes ganas traé algo para compartir mientras trabajamos. 25 de mayo 1095\, San Miguel de Tucumán.
URL:https://fundacionmariadelosangeles.org.ar/event/acercamiento-a-las-herramientas-digitales-6/
CATEGORIES:Taller
END:VEVENT
BEGIN:VEVENT
DTSTART;TZID=America/Argentina/Buenos_Aires:20240508T100000
DTEND;TZID=America/Argentina/Buenos_Aires:20240508T120000
DTSTAMP:20260421T102220
CREATED:20240409T162248Z
LAST-MODIFIED:20240409T162248Z
UID:1638-1715162400-1715169600@fundacionmariadelosangeles.org.ar
SUMMARY:ACERCAMIENTO A LAS HERRAMIENTAS DIGITALES
DESCRIPTION:Recuerden que para poder participar deben haberse anotado previamente a través de su equipo interdisciplinario. \nTe esperamos y si tenes ganas traé algo para compartir mientras trabajamos. 25 de mayo 1095\, San Miguel de Tucumán.
URL:https://fundacionmariadelosangeles.org.ar/event/acercamiento-a-las-herramientas-digitales-5/
CATEGORIES:Taller
END:VEVENT
BEGIN:VEVENT
DTSTART;TZID=America/Argentina/Buenos_Aires:20240501T080000
DTEND;TZID=America/Argentina/Buenos_Aires:20240501T170000
DTSTAMP:20260421T102220
CREATED:20240409T162213Z
LAST-MODIFIED:20240409T162213Z
UID:1636-1714550400-1714582800@fundacionmariadelosangeles.org.ar
SUMMARY:ACERCAMIENTO A LAS HERRAMIENTAS DIGITALES
DESCRIPTION:Recuerden que para poder participar deben haberse anotado previamente a través de su equipo interdisciplinario. \nTe esperamos y si tenes ganas traé algo para compartir mientras trabajamos. 25 de mayo 1095\, San Miguel de Tucumán.
URL:https://fundacionmariadelosangeles.org.ar/event/acercamiento-a-las-herramientas-digitales-4/
CATEGORIES:Taller
END:VEVENT
BEGIN:VEVENT
DTSTART;TZID=America/Argentina/Buenos_Aires:20240424T100000
DTEND;TZID=America/Argentina/Buenos_Aires:20240424T120000
DTSTAMP:20260421T102220
CREATED:20240409T162131Z
LAST-MODIFIED:20240409T162131Z
UID:1634-1713952800-1713960000@fundacionmariadelosangeles.org.ar
SUMMARY:ACERCAMIENTO A LAS HERRAMIENTAS DIGITALES
DESCRIPTION:Recuerden que para poder participar deben haberse anotado previamente a través de su equipo interdisciplinario. \nTe esperamos y si tenes ganas traé algo para compartir mientras trabajamos. 25 de mayo 1095\, San Miguel de Tucumán.
URL:https://fundacionmariadelosangeles.org.ar/event/acercamiento-a-las-herramientas-digitales-3/
CATEGORIES:Taller
END:VEVENT
BEGIN:VEVENT
DTSTART;TZID=America/Argentina/Tucuman:20240417T100000
DTEND;TZID=America/Argentina/Tucuman:20240417T120000
DTSTAMP:20260421T102220
CREATED:20240409T162047Z
LAST-MODIFIED:20240409T162047Z
UID:1632-1713348000-1713355200@fundacionmariadelosangeles.org.ar
SUMMARY:ACERCAMIENTO A LAS HERRAMIENTAS DIGITALES
DESCRIPTION:Recuerden que para poder participar deben haberse anotado previamente a través de su equipo interdisciplinario. \nTe esperamos y si tenes ganas traé algo para compartir mientras trabajamos. 25 de mayo 1095\, San Miguel de Tucumán.
URL:https://fundacionmariadelosangeles.org.ar/event/acercamiento-a-las-herramientas-digitales-2/
CATEGORIES:Taller
END:VEVENT
BEGIN:VEVENT
DTSTART;TZID=America/Argentina/Buenos_Aires:20240417T093000
DTEND;TZID=America/Argentina/Buenos_Aires:20240417T120000
DTSTAMP:20260421T102220
CREATED:20240409T163616Z
LAST-MODIFIED:20240409T163616Z
UID:1649-1713346200-1713355200@fundacionmariadelosangeles.org.ar
SUMMARY:CAPACITACIÓN VIRTUAL
DESCRIPTION:Capacitación virtual del equipo interdisciplinario articulado con el Servicio de Protección de Derechos  que trabajan con NNA y Género de  Trevelin\, cerca de Esquel \,Chubut.\n\nEn el taller se hablara de la  sensibilización de trata de personas\, esta  destinado a  lxs agentes turísticos de la zona\, que se encuentran a 30 km de un cruce a Chile para prevenir\, sensibilizar y visibilizar el delito
URL:https://fundacionmariadelosangeles.org.ar/event/capacitacion-virtual/
CATEGORIES:Capacitación
END:VEVENT
BEGIN:VEVENT
DTSTART;TZID=America/Argentina/Buenos_Aires:20240410T100000
DTEND;TZID=America/Argentina/Buenos_Aires:20240410T120000
DTSTAMP:20260421T102220
CREATED:20240409T161718Z
LAST-MODIFIED:20240409T162601Z
UID:1626-1712743200-1712750400@fundacionmariadelosangeles.org.ar
SUMMARY:ACERCAMIENTO A LAS HERRAMIENTAS DIGITALES
DESCRIPTION:Recuerden que para poder participar deben haberse anotado previamente a través de su equipo interdisciplinario. \nTe esperamos y si tenes ganas traé algo para compartir mientras trabajamos. 25 de mayo 1095\, San Miguel de Tucumán.
URL:https://fundacionmariadelosangeles.org.ar/event/acercamiento-a-las-herramientas-digitales/
CATEGORIES:Taller
END:VEVENT
BEGIN:VEVENT
DTSTART;VALUE=DATE:20240410
DTEND;VALUE=DATE:20240411
DTSTAMP:20260421T102220
CREATED:20240409T163245Z
LAST-MODIFIED:20240409T170611Z
UID:1647-1712707200-1712793599@fundacionmariadelosangeles.org.ar
SUMMARY:VISITA DE ESTUDIANTES
DESCRIPTION:Visita de estudiantes norteamericanos del programa de salud pública en ambientes urbanos. Tiene sede en la Universidad Isalud de Buenos Aires. \nFundación  Educativa World Learning Argentina.
URL:https://fundacionmariadelosangeles.org.ar/event/visita-de-estudiantes/
CATEGORIES:Visitas
END:VEVENT
END:VCALENDAR